BEGIN:VCALENDAR
VERSION:2.0
CALSCALE:GREGORIAN
PRODID:-//Diputació de Barcelona//DibaCMS//EN
BEGIN:VEVENT
UID:4020
DTSTAMP:20260421T232030
DTSTART:20190602T190000
DTEND:20190602T203000
SUMMARY:Teatre - Muntatge GATU
LOCATION:C/ Josep Fornell, s/n 08231 Ullastrell
METHOD:PUBLISH
X-WR-CALNAME:ullastrell@ullastrell.cat
X-WR-TIMEZONE:Europe/Madrid
DESCRIPTION:Aquest diumenge 2 de juny a les 19h el Grup d'Amics del Teatre d'Ullastrell (GATU) estrenen la seva darrera obra "Com si fos aquesta nit" al Casal Cultural d'Ullastrell. 

URI:https://www.ullastrell.cat/actualitat/agenda/teatre-muntatge-gatu.html
CLASS:PUBLIC
END:VEVENT
END:VCALENDAR
