BEGIN:VCALENDAR
VERSION:2.0
CALSCALE:GREGORIAN
PRODID:-//Diputació de Barcelona//DibaCMS//EN
BEGIN:VEVENT
UID:4021
DTSTAMP:20260422T004954
DTSTART:20190605T173000
DTEND:20190605T190500
SUMMARY:Conte va conte ve: Dins del cor -  Ada Cusidó
LOCATION:C/ Josep Fornell, s/n 08231 Ullastrell
METHOD:PUBLISH
X-WR-CALNAME:ullastrell@ullastrell.cat
X-WR-TIMEZONE:Europe/Madrid
DESCRIPTION:1-4 anys

URI:https://www.ullastrell.cat/actualitat/agenda/conte-va-conte-ve-dins-del-cor-ada-cusido.html
CLASS:PUBLIC
END:VEVENT
END:VCALENDAR
