BEGIN:VCALENDAR
VERSION:2.0
CALSCALE:GREGORIAN
PRODID:-//Diputació de Barcelona//DibaCMS//EN
BEGIN:VEVENT
UID:4025
DTSTAMP:20260422T015253
DTSTART:20190424T200000
DTEND:20190424T210000
SUMMARY:Ple ordinari
LOCATION:
METHOD:PUBLISH
X-WR-CALNAME:ullastrell@ullastrell.cat
X-WR-TIMEZONE:Europe/Madrid
DESCRIPTION:Data i hora: 24 / d’abril / 2019 a les 20:00
Lloc: Sala de Plens
 

URI:https://www.ullastrell.cat/actualitat/agenda/4025-ple-ordinari.html
CLASS:PUBLIC
END:VEVENT
END:VCALENDAR
