BEGIN:VCALENDAR
VERSION:2.0
CALSCALE:GREGORIAN
PRODID:-//Diputació de Barcelona//DibaCMS//EN
BEGIN:VEVENT
UID:4028
DTSTAMP:20260422T074846
DTSTART:20190428T123000
DTEND:20190428T190000
SUMMARY:Festa de la Gent Gran
LOCATION:
METHOD:PUBLISH
X-WR-CALNAME:ullastrell@ullastrell.cat
X-WR-TIMEZONE:Europe/Madrid
DESCRIPTION:Per Pasqüetes també celebrem la Festa de la Gent Gran amb totes aquestes activitats:

URI:https://www.ullastrell.cat/actualitat/agenda/4028-festa-de-la-gent-gran.html
CLASS:PUBLIC
END:VEVENT
END:VCALENDAR
