BEGIN:VCALENDAR
VERSION:2.0
CALSCALE:GREGORIAN
PRODID:-//Diputació de Barcelona//DibaCMS//EN
BEGIN:VEVENT
UID:4029
DTSTAMP:20260422T045633
DTSTART:20190503T203000
DTEND:20190503T203000
SUMMARY:Tu fas Ullastrell 2019
LOCATION:Gimnàs Escola Nova 
METHOD:PUBLISH
X-WR-CALNAME:ullastrell@ullastrell.cat
X-WR-TIMEZONE:Europe/Madrid
DESCRIPTION:12ª Edició dels premis Tu Fas Ullastrell que entrega la formació local d'Esquerra Repúblicana (ERC).

Enguany se'ls hi entregarà el premi al col.lectiu de dones "Plantem la figuera"

El preu del sopar seran de 10€  (el 50% dels ingressos recaptats aniran de donació a la Fundació MSD)

URI:https://www.ullastrell.cat/actualitat/agenda/tu-fas-ullastrell-2019.html
CLASS:PUBLIC
END:VEVENT
END:VCALENDAR
