BEGIN:VCALENDAR
VERSION:2.0
CALSCALE:GREGORIAN
PRODID:-//Diputació de Barcelona//DibaCMS//EN
BEGIN:VEVENT
UID:4030
DTSTAMP:20260422T015413
DTSTART:20190429T200000
DTEND:20190429T203000
SUMMARY:Ple extraordinari 29 d'abril de 2019
LOCATION:
METHOD:PUBLISH
X-WR-CALNAME:ullastrell@ullastrell.cat
X-WR-TIMEZONE:Europe/Madrid
DESCRIPTION:Tipus de convocatòria: Extraordinària
Data i hora: 29 / d’abril / 2019 a les 20:00

URI:https://www.ullastrell.cat/actualitat/agenda/ple-extraordinari-29-dabril-de-2019.html
CLASS:PUBLIC
END:VEVENT
END:VCALENDAR
