BEGIN:VCALENDAR
VERSION:2.0
CALSCALE:GREGORIAN
PRODID:-//Diputació de Barcelona//DibaCMS//EN
BEGIN:VEVENT
UID:4034
DTSTAMP:20260422T005200
DTSTART:20190512T120000
DTEND:20190512T131500
SUMMARY:Exhibició vehicles d'època
LOCATION:
METHOD:PUBLISH
X-WR-CALNAME:ullastrell@ullastrell.cat
X-WR-TIMEZONE:Europe/Madrid
DESCRIPTION:Diumenge ens visitaran com cada any els vehicles d'època provinents de la Fira Modernista de Terrassa, els podreu veure exposats a la Serra.

URI:https://www.ullastrell.cat/actualitat/agenda/exhibicio-vehicles-depoca.html
CLASS:PUBLIC
END:VEVENT
END:VCALENDAR
