BEGIN:VCALENDAR
VERSION:2.0
CALSCALE:GREGORIAN
PRODID:-//Diputació de Barcelona//DibaCMS//EN
BEGIN:VEVENT
UID:4040
DTSTAMP:20260421T232213
DTSTART:20190530T190000
DTEND:20190530T200000
SUMMARY:Xerrada sobre Consum responsable i estalvi energètic a la LLar
LOCATION:
METHOD:PUBLISH
X-WR-CALNAME:ullastrell@ullastrell.cat
X-WR-TIMEZONE:Europe/Madrid
DESCRIPTION:El proper dijous 30 de maig, a les 19h a l'altell del casal cultural realitzem la xerrada sobre:

 



URI:https://www.ullastrell.cat/actualitat/agenda/xerrada-sobre-consum-responsable-i-estalvi-energetic-a-la-llar.html
CLASS:PUBLIC
END:VEVENT
END:VCALENDAR
