BEGIN:VCALENDAR
VERSION:2.0
CALSCALE:GREGORIAN
PRODID:-//Diputació de Barcelona//DibaCMS//EN
BEGIN:VEVENT
UID:4041
DTSTAMP:20260421T232120
DTSTART:20190521T203000
DTEND:20190521T220000
SUMMARY:Debat electoral
LOCATION:C/ Josep Fornell, s/n 08231 Ullastrell
METHOD:PUBLISH
X-WR-CALNAME:ullastrell@ullastrell.cat
X-WR-TIMEZONE:Europe/Madrid
DESCRIPTION:Debat electoral entre els 4 candidats/es a l'alcaldia d'Ullastrell

URI:https://www.ullastrell.cat/actualitat/agenda/debat-electoral.html
CLASS:PUBLIC
END:VEVENT
END:VCALENDAR
