BEGIN:VCALENDAR
VERSION:2.0
CALSCALE:GREGORIAN
PRODID:-//Diputació de Barcelona//DibaCMS//EN
BEGIN:VEVENT
UID:4042
DTSTAMP:20260422T004407
DTSTART:20190601T000000
DTEND:20190601T000000
SUMMARY:Trobada de vespes
LOCATION:
METHOD:PUBLISH
X-WR-CALNAME:ullastrell@ullastrell.cat
X-WR-TIMEZONE:Europe/Madrid
DESCRIPTION:Novament organitzat des del Club Soulvespa de Terrassa, a Ullastrell faran parada i exhibició de les motos vespa provinents de la ruta Escuterista Vallesana.

URI:https://www.ullastrell.cat/actualitat/agenda/trobada-de-vespes.html
CLASS:PUBLIC
END:VEVENT
END:VCALENDAR
