BEGIN:VCALENDAR
VERSION:2.0
CALSCALE:GREGORIAN
PRODID:-//Diputació de Barcelona//DibaCMS//EN
BEGIN:VEVENT
UID:4059
DTSTAMP:20260422T142005
DTSTART:20190618T190000
DTEND:20190618T200000
SUMMARY:El vehicle elèctric: El transport cap al món sostenible
LOCATION:C/ Serra, 17 08231 Ullastrell
METHOD:PUBLISH
X-WR-CALNAME:ullastrell@ullastrell.cat
X-WR-TIMEZONE:Europe/Madrid
DESCRIPTION:En el marc dels actes de la setmana del medi ambient

URI:https://www.ullastrell.cat/actualitat/agenda/el-vehicle-electric-el-transport-cap-al-mon-sostenible.html
CLASS:PUBLIC
END:VEVENT
END:VCALENDAR
