BEGIN:VCALENDAR
VERSION:2.0
CALSCALE:GREGORIAN
PRODID:-//Diputació de Barcelona//DibaCMS//EN
BEGIN:VEVENT
UID:4060
DTSTAMP:20260422T142210
DTSTART:20190615T113000
DTEND:20190615T123000
SUMMARY:Ple de constitució
LOCATION:C/ Serra, 17 08231 Ullastrell
METHOD:PUBLISH
X-WR-CALNAME:ullastrell@ullastrell.cat
X-WR-TIMEZONE:Europe/Madrid
DESCRIPTION:En aquest ple es constitüirà el nou consistori i els regidors escolliran l'alcalde per la legislatura 2019-2023

 

URI:https://www.ullastrell.cat/actualitat/agenda/ple-de-constitucio.html
CLASS:PUBLIC
END:VEVENT
END:VCALENDAR
