BEGIN:VCALENDAR
VERSION:2.0
CALSCALE:GREGORIAN
PRODID:-//Diputació de Barcelona//DibaCMS//EN
BEGIN:VEVENT
UID:4061
DTSTAMP:20260422T141923
DTSTART:20190629T100000
DTEND:20190629T140000
SUMMARY:Visita al Centre Tractament de Residus de Vacarisses
LOCATION:
METHOD:PUBLISH
X-WR-CALNAME:ullastrell@ullastrell.cat
X-WR-TIMEZONE:Europe/Madrid
DESCRIPTION:Què en fem dels residus? 

Sortida el dissabte 29 de Juny a les 10h. al pàrquing de sota les Escoles Velles

Inscripcions a l'Ajuntament i per mail a: ullastrell@ullastrell.cat  (fins dijous 27 juny)

URI:https://www.ullastrell.cat/actualitat/agenda/visita-al-centre-tractament-de-residus-de-vacarisses.html
CLASS:PUBLIC
END:VEVENT
END:VCALENDAR
