BEGIN:VCALENDAR
VERSION:2.0
CALSCALE:GREGORIAN
PRODID:-//Diputació de Barcelona//DibaCMS//EN
BEGIN:VEVENT
UID:4063
DTSTAMP:20260422T142022
DTSTART:20190623T200000
DTEND:20190623T230000
SUMMARY:Arribada de la flama del canigó i foguera de Sant Joan
LOCATION:
METHOD:PUBLISH
X-WR-CALNAME:ullastrell@ullastrell.cat
X-WR-TIMEZONE:Europe/Madrid
DESCRIPTION:Focs de Sant Joan i flama del canigó

URI:https://www.ullastrell.cat/actualitat/agenda/arribada-de-la-flama-del-canigo-i-foguera-de-sant-joan.html
CLASS:PUBLIC
END:VEVENT
END:VCALENDAR
