BEGIN:VCALENDAR
VERSION:2.0
CALSCALE:GREGORIAN
PRODID:-//Diputació de Barcelona//DibaCMS//EN
BEGIN:VEVENT
UID:4065
DTSTAMP:20260422T155244
DTSTART:20190706T090000
DTEND:20190706T133000
SUMMARY:Deixalleria mòbil
LOCATION:
METHOD:PUBLISH
X-WR-CALNAME:ullastrell@ullastrell.cat
X-WR-TIMEZONE:Europe/Madrid
DESCRIPTION:La deixalleria mòbil recull tots aquells residus que no es poden abocar en els contenidors habituals.

URI:https://www.ullastrell.cat/actualitat/agenda/4065-deixalleria-mobil.html
CLASS:PUBLIC
END:VEVENT
END:VCALENDAR
