BEGIN:VCALENDAR
VERSION:2.0
CALSCALE:GREGORIAN
PRODID:-//Diputació de Barcelona//DibaCMS//EN
BEGIN:VEVENT
UID:4072
DTSTAMP:20260422T032540
DTSTART:20190725T213000
DTEND:20190725T213000
SUMMARY:En directe a les estrelles...A JAZZ AFFAIR
LOCATION:C/ Josep Fornell, s/n 08231 Ullastrell
METHOD:PUBLISH
X-WR-CALNAME:ullastrell@ullastrell.cat
X-WR-TIMEZONE:Europe/Madrid
DESCRIPTION:Aquest juliol torna l'En directe a les estrelles!

Cada dijous a les 21.30h a la Terrasseta de L'Altell del Casal, podreu gaudir de concerts en directe que podreu escoltar tranquil·lament sota les estrelles i amb el servei de bar que serà ofert pel Bar del Casal. 

URI:https://www.ullastrell.cat/actualitat/agenda/en-directe-a-les-estrellesa-jazz-affair.html
CLASS:PUBLIC
END:VEVENT
END:VCALENDAR
