BEGIN:VCALENDAR
VERSION:2.0
CALSCALE:GREGORIAN
PRODID:-//Diputació de Barcelona//DibaCMS//EN
BEGIN:VEVENT
UID:4075
DTSTAMP:20260422T201556
DTSTART:20190704T213000
DTEND:20190704T223000
SUMMARY:Kung Funk (En directe a les estrelles)
LOCATION:
METHOD:PUBLISH
X-WR-CALNAME:ullastrell@ullastrell.cat
X-WR-TIMEZONE:Europe/Madrid
DESCRIPTION:
URI:https://www.ullastrell.cat/actualitat/agenda/kung-funk-en-directe-a-les-estrelles.html
CLASS:PUBLIC
END:VEVENT
END:VCALENDAR
