BEGIN:VCALENDAR
VERSION:2.0
CALSCALE:GREGORIAN
PRODID:-//Diputació de Barcelona//DibaCMS//EN
BEGIN:VEVENT
UID:4077
DTSTAMP:20260422T201445
DTSTART:20190704T200000
DTEND:20190704T210000
SUMMARY:Acte de conmemoració del 25è aniversari de l'incendi del 4 de juliol de 1994
LOCATION:
METHOD:PUBLISH
X-WR-CALNAME:ullastrell@ullastrell.cat
X-WR-TIMEZONE:Europe/Madrid
DESCRIPTION:Al parc infantil del turó de Can Palet

URI:https://www.ullastrell.cat/actualitat/agenda/acte-de-conmemoracio-del-25e-aniversari-de-lincendi-del-4-de-juliol-de-1994.html
CLASS:PUBLIC
END:VEVENT
END:VCALENDAR
