BEGIN:VCALENDAR
VERSION:2.0
CALSCALE:GREGORIAN
PRODID:-//Diputació de Barcelona//DibaCMS//EN
BEGIN:VEVENT
UID:4078
DTSTAMP:20260422T002218
DTSTART:20190724T190000
DTEND:20190724T220000
SUMMARY:Taller d'elaboració de cervesa
LOCATION:Plaça de les escoles, 1 08231 Ullastrell
METHOD:PUBLISH
X-WR-CALNAME:ullastrell@ullastrell.cat
X-WR-TIMEZONE:Europe/Madrid
DESCRIPTION:Organitza Ullastrell jove

Inscripcions: cultura.joventut.ullastrell@gmail.com

URI:https://www.ullastrell.cat/actualitat/agenda/taller-delaboracio-de-cervesa.html
CLASS:PUBLIC
END:VEVENT
END:VCALENDAR
