BEGIN:VCALENDAR
VERSION:2.0
CALSCALE:GREGORIAN
PRODID:-//Diputació de Barcelona//DibaCMS//EN
BEGIN:VEVENT
UID:4090
DTSTAMP:20260422T032435
DTSTART:20190718T200000
DTEND:20190718T210000
SUMMARY:Acte públic del govern municipal
LOCATION:
METHOD:PUBLISH
X-WR-CALNAME:ullastrell@ullastrell.cat
X-WR-TIMEZONE:Europe/Madrid
DESCRIPTION:
URI:https://www.ullastrell.cat/actualitat/agenda/4090-acte-public-del-govern-municipal.html
CLASS:PUBLIC
END:VEVENT
END:VCALENDAR
