BEGIN:VCALENDAR
VERSION:2.0
CALSCALE:GREGORIAN
PRODID:-//Diputació de Barcelona//DibaCMS//EN
BEGIN:VEVENT
UID:4092
DTSTAMP:20260422T001940
DTSTART:20190724T200000
DTEND:20190724T210000
SUMMARY:Ple Ordinari 24 de juliol de 2019
LOCATION:
METHOD:PUBLISH
X-WR-CALNAME:ullastrell@ullastrell.cat
X-WR-TIMEZONE:Europe/Madrid
DESCRIPTION:Tipus de convocatòria: Ordinària
Data i hora: 24 / de juliol / 2019 a les 20:00
Lloc: Sala de Plens

URI:https://www.ullastrell.cat/actualitat/agenda/ple-ordinari-24-de-juliol-de-2019.html
CLASS:PUBLIC
END:VEVENT
END:VCALENDAR
