BEGIN:VCALENDAR
VERSION:2.0
CALSCALE:GREGORIAN
PRODID:-//Diputació de Barcelona//DibaCMS//EN
BEGIN:VEVENT
UID:4104
DTSTAMP:20260422T022020
DTSTART:20190909T200000
DTEND:20190909T210000
SUMMARY:Reunió de barri. Sardà i església
LOCATION:Plaça del Padró 
METHOD:PUBLISH
X-WR-CALNAME:ullastrell@ullastrell.cat
X-WR-TIMEZONE:Europe/Madrid
DESCRIPTION:Carrers convocats: Sardà, Assumpció, Església, Ridameya, ctra. Terrassa

URI:https://www.ullastrell.cat/actualitat/agenda/4104-reunio-de-barri-sarda-i-esglesia.html
CLASS:PUBLIC
END:VEVENT
END:VCALENDAR
