BEGIN:VCALENDAR
VERSION:2.0
CALSCALE:GREGORIAN
PRODID:-//Diputació de Barcelona//DibaCMS//EN
BEGIN:VEVENT
UID:4105
DTSTAMP:20260422T002823
DTSTART:20190907T120000
DTEND:20190908T030000
SUMMARY:Tropical riot
LOCATION:
METHOD:PUBLISH
X-WR-CALNAME:ullastrell@ullastrell.cat
X-WR-TIMEZONE:Europe/Madrid
DESCRIPTION:Una festa de Punk-rock i Cervesa artesana



URI:https://www.ullastrell.cat/actualitat/agenda/tropical-riot.html
CLASS:PUBLIC
END:VEVENT
END:VCALENDAR
