BEGIN:VCALENDAR
VERSION:2.0
CALSCALE:GREGORIAN
PRODID:-//Diputació de Barcelona//DibaCMS//EN
BEGIN:VEVENT
UID:4106
DTSTAMP:20260421T213508
DTSTART:20190910T190000
DTEND:20190911T120000
SUMMARY:Actes de la diada
LOCATION:
METHOD:PUBLISH
X-WR-CALNAME:ullastrell@ullastrell.cat
X-WR-TIMEZONE:Europe/Madrid
DESCRIPTION:Diferents activitats se celebraran al llarg del vespre-nit del dimarts 10 de setembre. Enguany es tornen a celebrar els actes oficials a la Serra i al mirador de l'Ajuntament.

URI:https://www.ullastrell.cat/actualitat/agenda/4106-actes-de-la-diada.html
CLASS:PUBLIC
END:VEVENT
END:VCALENDAR
