BEGIN:VCALENDAR
VERSION:2.0
CALSCALE:GREGORIAN
PRODID:-//Diputació de Barcelona//DibaCMS//EN
BEGIN:VEVENT
UID:4114
DTSTAMP:20260421T214915
DTSTART:20191005T080000
DTEND:20191005T150000
SUMMARY:BATUDA DE SENGLAR
LOCATION:
METHOD:PUBLISH
X-WR-CALNAME:ullastrell@ullastrell.cat
X-WR-TIMEZONE:Europe/Madrid
DESCRIPTION:A les zones de Ca n'Amat, Can Palet, Can Rodó i el Bolet.

 

Lloc: TERME MUNICIPAL

Organitzador: ASSOCIACIÓ DE CAÇADORS

URI:https://www.ullastrell.cat/actualitat/agenda/4114-batuda-de-senglar.html
CLASS:PUBLIC
END:VEVENT
END:VCALENDAR
