BEGIN:VCALENDAR
VERSION:2.0
CALSCALE:GREGORIAN
PRODID:-//Diputació de Barcelona//DibaCMS//EN
BEGIN:VEVENT
UID:4120
DTSTAMP:20260421T214734
DTSTART:20191024T180000
DTEND:20191024T200000
SUMMARY:"EXPERIÈNCIES DE LACTÀNCIA GENERACIONALS". 
LOCATION:Altell del Casal 
METHOD:PUBLISH
X-WR-CALNAME:ullastrell@ullastrell.cat
X-WR-TIMEZONE:Europe/Madrid
DESCRIPTION:Taula Rodona. 

URI:https://www.ullastrell.cat/actualitat/agenda/experiencies-de-lactancia-generacionals-.html
CLASS:PUBLIC
END:VEVENT
END:VCALENDAR
