BEGIN:VCALENDAR
VERSION:2.0
CALSCALE:GREGORIAN
PRODID:-//Diputació de Barcelona//DibaCMS//EN
BEGIN:VEVENT
UID:4126
DTSTAMP:20260422T005146
DTSTART:20191027T110000
DTEND:20191027T130000
SUMMARY:ESPAI DE JOC LLIURE I TETADA POPULAR
LOCATION:Al Carrer de la Serra 
METHOD:PUBLISH
X-WR-CALNAME:ullastrell@ullastrell.cat
X-WR-TIMEZONE:Europe/Madrid
DESCRIPTION:
URI:https://www.ullastrell.cat/actualitat/agenda/espai-de-joc-lliure-i-tetada-popular.html
CLASS:PUBLIC
END:VEVENT
END:VCALENDAR
