BEGIN:VCALENDAR
VERSION:2.0
CALSCALE:GREGORIAN
PRODID:-//Diputació de Barcelona//DibaCMS//EN
BEGIN:VEVENT
UID:4130
DTSTAMP:20260421T214842
DTSTART:20191023T195000
DTEND:20191023T200000
SUMMARY:Ple Extraordinari
LOCATION:
METHOD:PUBLISH
X-WR-CALNAME:ullastrell@ullastrell.cat
X-WR-TIMEZONE:Europe/Madrid
DESCRIPTION:Tipus de convocatòria: Ordinària
Data i hora: 23 / d’octubre / 2019 a les 19:50
Lloc: Sala de Plens
 

 

URI:https://www.ullastrell.cat/actualitat/agenda/4130-ple-extraordinari.html
CLASS:PUBLIC
END:VEVENT
END:VCALENDAR
