BEGIN:VCALENDAR
VERSION:2.0
CALSCALE:GREGORIAN
PRODID:-//Diputació de Barcelona//DibaCMS//EN
BEGIN:VEVENT
UID:4131
DTSTAMP:20260421T213610
DTSTART:20191023T200000
DTEND:20191023T210000
SUMMARY:Ple Ordinari
LOCATION:
METHOD:PUBLISH
X-WR-CALNAME:ullastrell@ullastrell.cat
X-WR-TIMEZONE:Europe/Madrid
DESCRIPTION:Tipus de convocatòria: Ordinària
Data i hora: 23 / d’octubre / 2019 a les 20:00
Lloc: Sala de Plens

URI:https://www.ullastrell.cat/actualitat/agenda/4131-ple-ordinari.html
CLASS:PUBLIC
END:VEVENT
END:VCALENDAR
