BEGIN:VCALENDAR
VERSION:2.0
CALSCALE:GREGORIAN
PRODID:-//Diputació de Barcelona//DibaCMS//EN
BEGIN:VEVENT
UID:4134
DTSTAMP:20260422T001809
DTSTART:20191030T194500
DTEND:20191030T213000
SUMMARY:Xerrada: PER QUÈ VOTEM?
LOCATION:L'altell del Casal 
METHOD:PUBLISH
X-WR-CALNAME:ullastrell@ullastrell.cat
X-WR-TIMEZONE:Europe/Madrid
DESCRIPTION:Radiografia del sistema democràtic a Espanya.

URI:https://www.ullastrell.cat/actualitat/agenda/xerrada-per-que-votem.html
CLASS:PUBLIC
END:VEVENT
END:VCALENDAR
