BEGIN:VCALENDAR
VERSION:2.0
CALSCALE:GREGORIAN
PRODID:-//Diputació de Barcelona//DibaCMS//EN
BEGIN:VEVENT
UID:4135
DTSTAMP:20260421T214526
DTSTART:20191023T001000
DTEND:20191025T235900
SUMMARY:Concurs de curtmetratges 2n Festival Ras i Curt 
LOCATION:
METHOD:PUBLISH
X-WR-CALNAME:ullastrell@ullastrell.cat
X-WR-TIMEZONE:Europe/Madrid
DESCRIPTION:Si tens una història per explicar, participa amb el teu curt!

Premis per categories de fins a 200 euros

Més informació i inscripcions a www.rasicurt.cat

URI:https://www.ullastrell.cat/actualitat/agenda/concurs-de-curtmetratges-2n-festival-ras-i-curt-.html
CLASS:PUBLIC
END:VEVENT
END:VCALENDAR
