BEGIN:VCALENDAR
VERSION:2.0
CALSCALE:GREGORIAN
PRODID:-//Diputació de Barcelona//DibaCMS//EN
BEGIN:VEVENT
UID:4137
DTSTAMP:20260422T005236
DTSTART:20191030T180000
DTEND:20191030T200000
SUMMARY:Taller de guionatge (2n Festival Ras i Curt)
LOCATION:
METHOD:PUBLISH
X-WR-CALNAME:ullastrell@ullastrell.cat
X-WR-TIMEZONE:Europe/Madrid
DESCRIPTION:No saps com plasmar la teva idea de guió? No se t’acut cap història? En el taller de guió t’ensenyarem com dur-ho a terme i aprendràs algunes tècniques de creativitat!

URI:https://www.ullastrell.cat/actualitat/agenda/taller-de-guionatge-2n-festival-ras-i-curt.html
CLASS:PUBLIC
END:VEVENT
END:VCALENDAR
