BEGIN:VCALENDAR
VERSION:2.0
CALSCALE:GREGORIAN
PRODID:-//Diputació de Barcelona//DibaCMS//EN
BEGIN:VEVENT
UID:4139
DTSTAMP:20260421T225544
DTSTART:20191103T180000
DTEND:20191103T190000
SUMMARY:Qui ets tu?
LOCATION:
METHOD:PUBLISH
X-WR-CALNAME:ullastrell@ullastrell.cat
X-WR-TIMEZONE:Europe/Madrid
DESCRIPTION:L’Alzheimer és la malaltia degenerativa del cervell més comuna en els països desenvolupats. “Qui ets tu?” ens parla de la trobada amb la malaltia des d’un un altre punt de vista on la infància i la velles s’alien per trobar refugi en el joc i la imaginació.

URI:https://www.ullastrell.cat/actualitat/agenda/qui-ets-tu.html
CLASS:PUBLIC
END:VEVENT
END:VCALENDAR
