BEGIN:VCALENDAR
VERSION:2.0
CALSCALE:GREGORIAN
PRODID:-//Diputació de Barcelona//DibaCMS//EN
BEGIN:VEVENT
UID:4147
DTSTAMP:20260421T225400
DTSTART:20191107T180000
DTEND:20191107T200000
SUMMARY:Taller de llenguatge cinematogràfic (2n Festival Ras i Curt)
LOCATION:
METHOD:PUBLISH
X-WR-CALNAME:ullastrell@ullastrell.cat
X-WR-TIMEZONE:Europe/Madrid
DESCRIPTION: 

Com en qualsevol idioma, el llenguatge cinematogràfic té les seves pròpies normes. Aprèn-ne unes nocions bàsiques i comença a veure el cinema com mai vas creure fer-ho!

URI:https://www.ullastrell.cat/actualitat/agenda/taller-de-llenguatge-cinematografic-2n-festival-ras-i-curt.html
CLASS:PUBLIC
END:VEVENT
END:VCALENDAR
