BEGIN:VCALENDAR
VERSION:2.0
CALSCALE:GREGORIAN
PRODID:-//Diputació de Barcelona//DibaCMS//EN
BEGIN:VEVENT
UID:4150
DTSTAMP:20260421T230138
DTSTART:20191109T213000
DTEND:20191109T230000
SUMMARY:El Color del Azafrán
LOCATION:
METHOD:PUBLISH
X-WR-CALNAME:ullastrell@ullastrell.cat
X-WR-TIMEZONE:Europe/Madrid
DESCRIPTION:La companyia Dieguitos y Mafaldas presenten aquesta obra inclusiva de Lucena Fernández i dirigida per Guifré Baró


 


URI:https://www.ullastrell.cat/actualitat/agenda/4150-el-color-del-azafran.html
CLASS:PUBLIC
END:VEVENT
END:VCALENDAR
