BEGIN:VCALENDAR
VERSION:2.0
CALSCALE:GREGORIAN
PRODID:-//Diputació de Barcelona//DibaCMS//EN
BEGIN:VEVENT
UID:4157
DTSTAMP:20260421T225425
DTSTART:20191114T170000
DTEND:20191114T180000
SUMMARY:L'hora del conte
LOCATION:C/ Josep Fornell, s/n 08231 Ullastrell
METHOD:PUBLISH
X-WR-CALNAME:ullastrell@ullastrell.cat
X-WR-TIMEZONE:Europe/Madrid
DESCRIPTION:Dijous 14 de novembre a les 17h,  a la Biblioteca, Contes sense límits, a càrrec de Gina Clotet.

URI:https://www.ullastrell.cat/actualitat/agenda/4157-lhora-del-conte.html
CLASS:PUBLIC
END:VEVENT
END:VCALENDAR
