BEGIN:VCALENDAR
VERSION:2.0
CALSCALE:GREGORIAN
PRODID:-//Diputació de Barcelona//DibaCMS//EN
BEGIN:VEVENT
UID:4159
DTSTAMP:20260421T201445
DTSTART:20191116T110000
DTEND:20191116T130000
SUMMARY:Ras i Curt 2019 -Taller 3. Noves Maneres de Gravar
LOCATION:08231 Ullastrell
METHOD:PUBLISH
X-WR-CALNAME:ullastrell@ullastrell.cat
X-WR-TIMEZONE:Europe/Madrid
DESCRIPTION:Nou taller en el marc del concurs de curtmetratges Ras i Curt.

URI:https://www.ullastrell.cat/actualitat/agenda/ras-i-curt-2019-taller-3-noves-maneres-de-gravar.html
CLASS:PUBLIC
END:VEVENT
END:VCALENDAR
