BEGIN:VCALENDAR
VERSION:2.0
CALSCALE:GREGORIAN
PRODID:-//Diputació de Barcelona//DibaCMS//EN
BEGIN:VEVENT
UID:4173
DTSTAMP:20260421T200947
DTSTART:20191130T190000
DTEND:20191130T220000
SUMMARY: Gran Gala del concurs de curtmetratges Ras i Curt 2019.
LOCATION:C/ Josep Fornell, s/n 08231 Ullastrell
METHOD:PUBLISH
X-WR-CALNAME:ullastrell@ullastrell.cat
X-WR-TIMEZONE:Europe/Madrid
DESCRIPTION:
URI:https://www.ullastrell.cat/actualitat/agenda/-gran-gala-del-concurs-de-curtmetratges-ras-i-curt-2019.html
CLASS:PUBLIC
END:VEVENT
END:VCALENDAR
