BEGIN:VCALENDAR
VERSION:2.0
CALSCALE:GREGORIAN
PRODID:-//Diputació de Barcelona//DibaCMS//EN
BEGIN:VEVENT
UID:4177
DTSTAMP:20260421T232515
DTSTART:20191204T160000
DTEND:20191204T200000
SUMMARY:Curs Primers Auxilis i D.E.A.
LOCATION:C/ Josep Fornell, s/n 08231 Ullastrell
METHOD:PUBLISH
X-WR-CALNAME:ullastrell@ullastrell.cat
X-WR-TIMEZONE:Europe/Madrid
DESCRIPTION:En les jornades de Salut i Primers auxilis bàsics.

URI:https://www.ullastrell.cat/actualitat/agenda/curs-primers-auxilis-i-dea.html
CLASS:PUBLIC
END:VEVENT
END:VCALENDAR
