BEGIN:VCALENDAR
VERSION:2.0
CALSCALE:GREGORIAN
PRODID:-//Diputació de Barcelona//DibaCMS//EN
BEGIN:VEVENT
UID:4179
DTSTAMP:20260421T201323
DTSTART:20191210T180000
DTEND:20191210T200000
SUMMARY:Curs Primers auxilis pediàtrics.
LOCATION:Camí de Can Font, s/n 08231 Ullastrell
METHOD:PUBLISH
X-WR-CALNAME:ullastrell@ullastrell.cat
X-WR-TIMEZONE:Europe/Madrid
DESCRIPTION:*PLACES ESGOTADES*

En el marc de les Jornades de Salut i Primer Auxilis Bàsics.

URI:https://www.ullastrell.cat/actualitat/agenda/curs-primers-auxilis-pediatrics.html
CLASS:PUBLIC
END:VEVENT
END:VCALENDAR
