BEGIN:VCALENDAR
VERSION:2.0
CALSCALE:GREGORIAN
PRODID:-//Diputació de Barcelona//DibaCMS//EN
BEGIN:VEVENT
UID:4193
DTSTAMP:20260421T214410
DTSTART:20191220T200000
DTEND:20191220T210000
SUMMARY:Ple Extraordinari Urgent
LOCATION:
METHOD:PUBLISH
X-WR-CALNAME:ullastrell@ullastrell.cat
X-WR-TIMEZONE:Europe/Madrid
DESCRIPTION:
URI:https://www.ullastrell.cat/actualitat/agenda/4193-ple-extraordinari-urgent.html
CLASS:PUBLIC
END:VEVENT
END:VCALENDAR
