BEGIN:VCALENDAR
VERSION:2.0
CALSCALE:GREGORIAN
PRODID:-//Diputació de Barcelona//DibaCMS//EN
BEGIN:VEVENT
UID:4194
DTSTAMP:20260421T195629
DTSTART:20191226T103000
DTEND:20191226T120000
SUMMARY:40a Cursa del Bolet
LOCATION:
METHOD:PUBLISH
X-WR-CALNAME:ullastrell@ullastrell.cat
X-WR-TIMEZONE:Europe/Madrid
DESCRIPTION:El proper 26 de Desembre se celebrarà la 40a edició de la Cursa del Bolet d’Ullastrell.

URI:https://www.ullastrell.cat/actualitat/agenda/40a-cursa-del-bolet.html
CLASS:PUBLIC
END:VEVENT
END:VCALENDAR
