BEGIN:VCALENDAR
VERSION:2.0
CALSCALE:GREGORIAN
PRODID:-//Diputació de Barcelona//DibaCMS//EN
BEGIN:VEVENT
UID:4197
DTSTAMP:20260421T212907
DTSTART:20200105T100000
DTEND:20200105T120000
SUMMARY: ESQUELLOTS
LOCATION:
METHOD:PUBLISH
X-WR-CALNAME:ullastrell@ullastrell.cat
X-WR-TIMEZONE:Europe/Madrid
DESCRIPTION:Un any més, seguint la tradició, farem uns esquellots ben sorollosos per a que els reis no s'oblidin de passar per Ullastrell. 

URI:https://www.ullastrell.cat/actualitat/agenda/-esquellots.html
CLASS:PUBLIC
END:VEVENT
END:VCALENDAR
