BEGIN:VCALENDAR
VERSION:2.0
CALSCALE:GREGORIAN
PRODID:-//Diputació de Barcelona//DibaCMS//EN
BEGIN:VEVENT
UID:4198
DTSTAMP:20260421T214644
DTSTART:20200105T190000
DTEND:20200105T210000
SUMMARY:Benvinguda a les reines i els reis mags a Ullastrell
LOCATION:
METHOD:PUBLISH
X-WR-CALNAME:ullastrell@ullastrell.cat
X-WR-TIMEZONE:Europe/Madrid
DESCRIPTION:Vine a rebre a SS. MM. Els Reis Mags de l'Orient, i després podràs donar-li la carta en persona! 

URI:https://www.ullastrell.cat/actualitat/agenda/benvinguda-a-les-reines-i-els-reis-mags-a-ullastrell.html
CLASS:PUBLIC
END:VEVENT
END:VCALENDAR
