BEGIN:VCALENDAR
VERSION:2.0
CALSCALE:GREGORIAN
PRODID:-//Diputació de Barcelona//DibaCMS//EN
BEGIN:VEVENT
UID:4235
DTSTAMP:20260422T015156
DTSTART:20200123T190000
DTEND:20200123T210000
SUMMARY:Xerrada “Maneig agroecològic de la olivera tradicional al Vallès”
LOCATION:
METHOD:PUBLISH
X-WR-CALNAME:ullastrell@ullastrell.cat
X-WR-TIMEZONE:Europe/Madrid
DESCRIPTION:
URI:https://www.ullastrell.cat/actualitat/agenda/xerrada-maneig-agroecologic-de-la-olivera-tradicional-al-valles.html
CLASS:PUBLIC
END:VEVENT
END:VCALENDAR
