BEGIN:VCALENDAR
VERSION:2.0
CALSCALE:GREGORIAN
PRODID:-//Diputació de Barcelona//DibaCMS//EN
BEGIN:VEVENT
UID:4236
DTSTAMP:20260421T201554
DTSTART:20200124T163000
DTEND:20200124T183000
SUMMARY:Berenar popular amb Pa amb Oli i Sucre
LOCATION:Davant l’Escola Serralavella

 
METHOD:PUBLISH
X-WR-CALNAME:ullastrell@ullastrell.cat
X-WR-TIMEZONE:Europe/Madrid
DESCRIPTION:Organitza: AMEU (Associació Multisectorial d’Empresaris d’Ullastrell)

 

URI:https://www.ullastrell.cat/actualitat/agenda/4236-berenar-popular-amb-pa-amb-oli-i-sucre.html
CLASS:PUBLIC
END:VEVENT
END:VCALENDAR
