BEGIN:VCALENDAR
VERSION:2.0
CALSCALE:GREGORIAN
PRODID:-//Diputació de Barcelona//DibaCMS//EN
BEGIN:VEVENT
UID:4237
DTSTAMP:20260421T201256
DTSTART:20200124T203000
DTEND:20200124T213000
SUMMARY:Inauguració IX Edició de la Fira de l'Oli d'Ullastrell
LOCATION:C/Josep Fornell s/n  08231 Ullastrell
METHOD:PUBLISH
X-WR-CALNAME:ullastrell@ullastrell.cat
X-WR-TIMEZONE:Europe/Madrid
DESCRIPTION:Amb l'actor Carles Xuriguera

URI:https://www.ullastrell.cat/actualitat/agenda/inauguracio-ix-edicio-de-la-fira-de-loli-dullastrell.html
CLASS:PUBLIC
END:VEVENT
END:VCALENDAR
