BEGIN:VCALENDAR
VERSION:2.0
CALSCALE:GREGORIAN
PRODID:-//Diputació de Barcelona//DibaCMS//EN
BEGIN:VEVENT
UID:4238
DTSTAMP:20260421T201021
DTSTART:20200124T213000
DTEND:20200124T230000
SUMMARY:V Concurs Tast d’Oli dels Productors Locals d’Ullastrell
LOCATION:C/Josep Fornell s/n  08231 Ullastrell
METHOD:PUBLISH
X-WR-CALNAME:ullastrell@ullastrell.cat
X-WR-TIMEZONE:Europe/Madrid
DESCRIPTION:Tot seguit a la inauguració de la IX Fira de l'Oli d'Ullastrell

URI:https://www.ullastrell.cat/actualitat/agenda/v-concurs-tast-doli-dels-productors-locals-dullastrell.html
CLASS:PUBLIC
END:VEVENT
END:VCALENDAR
