BEGIN:VCALENDAR
VERSION:2.0
CALSCALE:GREGORIAN
PRODID:-//Diputació de Barcelona//DibaCMS//EN
BEGIN:VEVENT
UID:4239
DTSTAMP:20260420T081121
DTSTART:20200125T100000
DTEND:20200125T120000
SUMMARY:Passejada popular pels racons d'Ullastrell
LOCATION:Sortida. Plaça Lluís Companys. 
METHOD:PUBLISH
X-WR-CALNAME:ullastrell@ullastrell.cat
X-WR-TIMEZONE:Europe/Madrid
DESCRIPTION:"Oliveres cuidades i oliveres oblidades, totes vives”. 

URI:https://www.ullastrell.cat/actualitat/agenda/passejada-popular-pels-racons-dullastrell.html
CLASS:PUBLIC
END:VEVENT
END:VCALENDAR
