BEGIN:VCALENDAR
VERSION:2.0
CALSCALE:GREGORIAN
PRODID:-//Diputació de Barcelona//DibaCMS//EN
BEGIN:VEVENT
UID:4240
DTSTAMP:20260421T201613
DTSTART:20200125T190000
DTEND:20200125T210000
SUMMARY:Xerrada. "L'oli d'oliva a la pell: efectes i usos".
LOCATION:Altell del Casal Cultural d'Ullastrell. 
METHOD:PUBLISH
X-WR-CALNAME:ullastrell@ullastrell.cat
X-WR-TIMEZONE:Europe/Madrid
DESCRIPTION:Organitza: Farmàcia Avilés.

URI:https://www.ullastrell.cat/actualitat/agenda/xerrada-loli-doliva-a-la-pell-efectes-i-usos.html
CLASS:PUBLIC
END:VEVENT
END:VCALENDAR
